BEGIN:VCALENDAR
VERSION:2.0
PRODID:-//Jong Nederland Panningen - ECPv6.15.20//NONSGML v1.0//EN
CALSCALE:GREGORIAN
METHOD:PUBLISH
X-WR-CALNAME:Jong Nederland Panningen
X-ORIGINAL-URL:https://jnpanningen.nl
X-WR-CALDESC:Evenementen voor Jong Nederland Panningen
REFRESH-INTERVAL;VALUE=DURATION:PT1H
X-Robots-Tag:noindex
X-PUBLISHED-TTL:PT1H
BEGIN:VTIMEZONE
TZID:UTC
BEGIN:STANDARD
TZOFFSETFROM:+0000
TZOFFSETTO:+0000
TZNAME:UTC
DTSTART:20240101T000000
END:STANDARD
END:VTIMEZONE
BEGIN:VEVENT
DTSTART;VALUE=DATE:20250701
DTEND;VALUE=DATE:20250702
DTSTAMP:20260423T230332
CREATED:20240818T113945Z
LAST-MODIFIED:20240818T113945Z
UID:2765-1751328000-1751414399@jnpanningen.nl
SUMMARY:Bestuursvergadering
DESCRIPTION:
URL:https://jnpanningen.nl/agenda/bestuursvergadering-17/
LOCATION:Blokhut de Kei
CATEGORIES:Bestuur,Jong Nederland Panningen
END:VEVENT
BEGIN:VEVENT
DTSTART;VALUE=DATE:20250528
DTEND;VALUE=DATE:20250529
DTSTAMP:20260423T230332
CREATED:20240818T113601Z
LAST-MODIFIED:20240818T113601Z
UID:2759-1748390400-1748476799@jnpanningen.nl
SUMMARY:Bestuursvergadering
DESCRIPTION:
URL:https://jnpanningen.nl/agenda/bestuursvergadering-16/
LOCATION:Blokhut de Kei
CATEGORIES:Bestuur,Jong Nederland Panningen
END:VEVENT
BEGIN:VEVENT
DTSTART;VALUE=DATE:20250506
DTEND;VALUE=DATE:20250507
DTSTAMP:20260423T230332
CREATED:20240818T113348Z
LAST-MODIFIED:20240818T113348Z
UID:2753-1746489600-1746575999@jnpanningen.nl
SUMMARY:Bestuursvergadering
DESCRIPTION:
URL:https://jnpanningen.nl/agenda/bestuursvergadering-15/
LOCATION:Blokhut de Kei
CATEGORIES:Bestuur,Jong Nederland Panningen
END:VEVENT
END:VCALENDAR