BEGIN:VCALENDAR
VERSION:2.0
PRODID:-//Jong Nederland Panningen - ECPv6.15.20//NONSGML v1.0//EN
CALSCALE:GREGORIAN
METHOD:PUBLISH
X-ORIGINAL-URL:https://jnpanningen.nl
X-WR-CALDESC:Evenementen voor Jong Nederland Panningen
REFRESH-INTERVAL;VALUE=DURATION:PT1H
X-Robots-Tag:noindex
X-PUBLISHED-TTL:PT1H
BEGIN:VTIMEZONE
TZID:UTC
BEGIN:STANDARD
TZOFFSETFROM:+0000
TZOFFSETTO:+0000
TZNAME:UTC
DTSTART:20240101T000000
END:STANDARD
END:VTIMEZONE
BEGIN:VEVENT
DTSTART;VALUE=DATE:20250919
DTEND;VALUE=DATE:20250920
DTSTAMP:20260425T164355
CREATED:20250726T083516Z
LAST-MODIFIED:20250726T083516Z
UID:3362-1758240000-1758326399@jnpanningen.nl
SUMMARY:Kaderavond
DESCRIPTION:Locatie volgt nog.
URL:https://jnpanningen.nl/agenda/kaderavond/
CATEGORIES:Jong Nederland Limburg,Leiding
END:VEVENT
BEGIN:VEVENT
DTSTART;VALUE=DATE:20250818
DTEND;VALUE=DATE:20250819
DTSTAMP:20260425T164355
CREATED:20250726T082220Z
LAST-MODIFIED:20250726T082220Z
UID:3352-1755475200-1755561599@jnpanningen.nl
SUMMARY:Introductiecursus
DESCRIPTION:Om jezelf te ontwikkelen als leiding biedt Jong Nederland Limburg verschillende cursussen aan. De introductiecursus is verplicht voor nieuwe leiding. Voorafgaand aan de leidingraadvergadering bieden we deze aan. Wil je meer weten over het cursus aanbod binnen Jong Nederland Limburg\, neem dan een kijkje op hun website.
URL:https://jnpanningen.nl/agenda/introductiecursus-2/
CATEGORIES:Jong Nederland Limburg,Leiding
END:VEVENT
BEGIN:VEVENT
DTSTART;VALUE=DATE:20250615
DTEND;VALUE=DATE:20250616
DTSTAMP:20260425T164355
CREATED:20240818T115728Z
LAST-MODIFIED:20240818T115746Z
UID:2788-1749945600-1750031999@jnpanningen.nl
SUMMARY:Filmfestival
DESCRIPTION:
URL:https://jnpanningen.nl/agenda/filmfestival-2/
CATEGORIES:Jong Nederland Limburg,Leden
END:VEVENT
END:VCALENDAR