BEGIN:VCALENDAR
VERSION:2.0
PRODID:-//Jong Nederland Panningen - ECPv6.15.20//NONSGML v1.0//EN
CALSCALE:GREGORIAN
METHOD:PUBLISH
X-ORIGINAL-URL:https://jnpanningen.nl
X-WR-CALDESC:Evenementen voor Jong Nederland Panningen
REFRESH-INTERVAL;VALUE=DURATION:PT1H
X-Robots-Tag:noindex
X-PUBLISHED-TTL:PT1H
BEGIN:VTIMEZONE
TZID:UTC
BEGIN:STANDARD
TZOFFSETFROM:+0000
TZOFFSETTO:+0000
TZNAME:UTC
DTSTART:20250101T000000
END:STANDARD
END:VTIMEZONE
BEGIN:VEVENT
DTSTART;VALUE=DATE:20260103
DTEND;VALUE=DATE:20260104
DTSTAMP:20260423T230341
CREATED:20250726T093701Z
LAST-MODIFIED:20250726T093701Z
UID:3392-1767398400-1767484799@jnpanningen.nl
SUMMARY:Nieuwjaarsreceptie
DESCRIPTION:Feestje met DJ Matje!
URL:https://jnpanningen.nl/agenda/nieuwjaarsreceptie/
LOCATION:Blokhut de Kei
CATEGORIES:Jong Nederland Panningen,Leiding
END:VEVENT
BEGIN:VEVENT
DTSTART;VALUE=DATE:20260105
DTEND;VALUE=DATE:20260110
DTSTAMP:20260423T230341
CREATED:20250726T093831Z
LAST-MODIFIED:20250726T093831Z
UID:3394-1767571200-1768003199@jnpanningen.nl
SUMMARY:Themaweek
DESCRIPTION:Deze week herken je de blokhut niet meer terug\, we toveren hem volledig om naar het thema!
URL:https://jnpanningen.nl/agenda/themaweek-2/
LOCATION:Blokhut de Kei
CATEGORIES:Jong Nederland Panningen,Leden
END:VEVENT
BEGIN:VEVENT
DTSTART;VALUE=DATE:20260110
DTEND;VALUE=DATE:20260111
DTSTAMP:20260423T230341
CREATED:20250726T093931Z
LAST-MODIFIED:20250726T093931Z
UID:3396-1768003200-1768089599@jnpanningen.nl
SUMMARY:OPA
DESCRIPTION:Jong Nederland Panningen komt oud papier ophalen!
URL:https://jnpanningen.nl/agenda/opa-17/
CATEGORIES:Jong Nederland Panningen,Leiding
END:VEVENT
BEGIN:VEVENT
DTSTART;VALUE=DATE:20260113
DTEND;VALUE=DATE:20260114
DTSTAMP:20260423T230341
CREATED:20250726T094301Z
LAST-MODIFIED:20250726T094301Z
UID:3402-1768262400-1768348799@jnpanningen.nl
SUMMARY:Bestuursvergadering
DESCRIPTION:
URL:https://jnpanningen.nl/agenda/bestuursvergadering-20/
CATEGORIES:Bestuur,Jong Nederland Panningen
END:VEVENT
BEGIN:VEVENT
DTSTART;VALUE=DATE:20260120
DTEND;VALUE=DATE:20260121
DTSTAMP:20260423T230341
CREATED:20250726T094354Z
LAST-MODIFIED:20250726T094354Z
UID:3404-1768867200-1768953599@jnpanningen.nl
SUMMARY:Groepsleidervergadering
DESCRIPTION:
URL:https://jnpanningen.nl/agenda/groepsleidervergadering-2/
CATEGORIES:Groepsleiders,Jong Nederland Panningen
END:VEVENT
END:VCALENDAR