BEGIN:VCALENDAR
VERSION:2.0
PRODID:-//Jong Nederland Panningen - ECPv6.15.20//NONSGML v1.0//EN
CALSCALE:GREGORIAN
METHOD:PUBLISH
X-WR-CALNAME:Jong Nederland Panningen
X-ORIGINAL-URL:https://jnpanningen.nl
X-WR-CALDESC:Evenementen voor Jong Nederland Panningen
REFRESH-INTERVAL;VALUE=DURATION:PT1H
X-Robots-Tag:noindex
X-PUBLISHED-TTL:PT1H
BEGIN:VTIMEZONE
TZID:UTC
BEGIN:STANDARD
TZOFFSETFROM:+0000
TZOFFSETTO:+0000
TZNAME:UTC
DTSTART:20240101T000000
END:STANDARD
END:VTIMEZONE
BEGIN:VEVENT
DTSTART;VALUE=DATE:20250705
DTEND;VALUE=DATE:20250711
DTSTAMP:20260424T120424
CREATED:20240818T114223Z
LAST-MODIFIED:20240818T114223Z
UID:2767-1751673600-1752191999@jnpanningen.nl
SUMMARY:Zomerkamp
DESCRIPTION:Het zomerkamp is het hoogtepunt van het seizoen! Dit jaar gaan we naar Bergen en Wellerlooi\, kijk op de Zomerkamp pagina voor meer info.
URL:https://jnpanningen.nl/agenda/zomerkamp/
CATEGORIES:Jong Nederland Panningen,Leden
END:VEVENT
END:VCALENDAR