BEGIN:VCALENDAR
VERSION:2.0
PRODID:-//Jong Nederland Panningen - ECPv6.15.20//NONSGML v1.0//EN
CALSCALE:GREGORIAN
METHOD:PUBLISH
X-WR-CALNAME:Jong Nederland Panningen
X-ORIGINAL-URL:https://jnpanningen.nl
X-WR-CALDESC:Evenementen voor Jong Nederland Panningen
REFRESH-INTERVAL;VALUE=DURATION:PT1H
X-Robots-Tag:noindex
X-PUBLISHED-TTL:PT1H
BEGIN:VTIMEZONE
TZID:UTC
BEGIN:STANDARD
TZOFFSETFROM:+0000
TZOFFSETTO:+0000
TZNAME:UTC
DTSTART:20240101T000000
END:STANDARD
END:VTIMEZONE
BEGIN:VEVENT
DTSTART;VALUE=DATE:20250809
DTEND;VALUE=DATE:20250810
DTSTAMP:20260424T073542
CREATED:20250726T080505Z
LAST-MODIFIED:20250726T081427Z
UID:3327-1754697600-1754783999@jnpanningen.nl
SUMMARY:OPA
DESCRIPTION:JNP komt oud papier ophalen.
URL:https://jnpanningen.nl/agenda/oud-papier-ophalen/
CATEGORIES:Jong Nederland Panningen,Leiding
END:VEVENT
END:VCALENDAR