BEGIN:VCALENDAR
VERSION:2.0
PRODID:-//Jong Nederland Panningen - ECPv6.15.20//NONSGML v1.0//EN
CALSCALE:GREGORIAN
METHOD:PUBLISH
X-WR-CALNAME:Jong Nederland Panningen
X-ORIGINAL-URL:https://jnpanningen.nl
X-WR-CALDESC:Evenementen voor Jong Nederland Panningen
REFRESH-INTERVAL;VALUE=DURATION:PT1H
X-Robots-Tag:noindex
X-PUBLISHED-TTL:PT1H
BEGIN:VTIMEZONE
TZID:UTC
BEGIN:STANDARD
TZOFFSETFROM:+0000
TZOFFSETTO:+0000
TZNAME:UTC
DTSTART:20240101T000000
END:STANDARD
END:VTIMEZONE
BEGIN:VEVENT
DTSTART;VALUE=DATE:20250825
DTEND;VALUE=DATE:20250830
DTSTAMP:20260424T073359
CREATED:20250726T083120Z
LAST-MODIFIED:20250726T083120Z
UID:3356-1756080000-1756511999@jnpanningen.nl
SUMMARY:Start van het nieuwe seizoen!
DESCRIPTION:Deze week starten alle groepen weer!
URL:https://jnpanningen.nl/agenda/start-van-het-nieuwe-seizoen/
LOCATION:Blokhut de Kei
CATEGORIES:Jong Nederland Panningen,Leden
END:VEVENT
END:VCALENDAR