BEGIN:VCALENDAR
VERSION:2.0
PRODID:-//Jong Nederland Panningen - ECPv6.15.20//NONSGML v1.0//EN
CALSCALE:GREGORIAN
METHOD:PUBLISH
X-ORIGINAL-URL:https://jnpanningen.nl
X-WR-CALDESC:Evenementen voor Jong Nederland Panningen
REFRESH-INTERVAL;VALUE=DURATION:PT1H
X-Robots-Tag:noindex
X-PUBLISHED-TTL:PT1H
BEGIN:VTIMEZONE
TZID:UTC
BEGIN:STANDARD
TZOFFSETFROM:+0000
TZOFFSETTO:+0000
TZNAME:UTC
DTSTART:20240101T000000
END:STANDARD
END:VTIMEZONE
BEGIN:VEVENT
DTSTART;VALUE=DATE:20251010
DTEND;VALUE=DATE:20251011
DTSTAMP:20260424T075041
CREATED:20250726T084437Z
LAST-MODIFIED:20250726T084437Z
UID:3373-1760054400-1760140799@jnpanningen.nl
SUMMARY:Openingsactiviteit
DESCRIPTION:
URL:https://jnpanningen.nl/agenda/openingsactiviteit-2/
CATEGORIES:Jong Nederland Panningen,Leden
END:VEVENT
BEGIN:VEVENT
DTSTART;VALUE=DATE:20251011
DTEND;VALUE=DATE:20251012
DTSTAMP:20260424T075041
CREATED:20250726T084532Z
LAST-MODIFIED:20250726T091915Z
UID:3375-1760140800-1760227199@jnpanningen.nl
SUMMARY:OPA
DESCRIPTION:Jong Nederland Panningen komt oud papier ophalen!
URL:https://jnpanningen.nl/agenda/opa-2/
CATEGORIES:Jong Nederland Panningen,Leiding
END:VEVENT
BEGIN:VEVENT
DTSTART;VALUE=DATE:20251104
DTEND;VALUE=DATE:20251105
DTSTAMP:20260424T075041
CREATED:20250726T091949Z
LAST-MODIFIED:20250726T091949Z
UID:3377-1762214400-1762300799@jnpanningen.nl
SUMMARY:Bestuursvergadering
DESCRIPTION:
URL:https://jnpanningen.nl/agenda/bestuursvergadering-18/
CATEGORIES:Bestuur,Jong Nederland Panningen
END:VEVENT
BEGIN:VEVENT
DTSTART;VALUE=DATE:20251108
DTEND;VALUE=DATE:20251109
DTSTAMP:20260424T075041
CREATED:20250726T092032Z
LAST-MODIFIED:20250726T092032Z
UID:3380-1762560000-1762646399@jnpanningen.nl
SUMMARY:OPA
DESCRIPTION:Jong Nederland Panningen komt oud papier ophalen!
URL:https://jnpanningen.nl/agenda/opa-3/
CATEGORIES:Jong Nederland Panningen,Leiding
END:VEVENT
BEGIN:VEVENT
DTSTART;VALUE=DATE:20251208
DTEND;VALUE=DATE:20251209
DTSTAMP:20260424T075041
CREATED:20250726T092518Z
LAST-MODIFIED:20250726T092518Z
UID:3386-1765152000-1765238399@jnpanningen.nl
SUMMARY:Leidingraadvergadering
DESCRIPTION:
URL:https://jnpanningen.nl/agenda/leidingraadvergadering-2/
CATEGORIES:Jong Nederland Panningen,Leiding
END:VEVENT
BEGIN:VEVENT
DTSTART;VALUE=DATE:20251213
DTEND;VALUE=DATE:20251214
DTSTAMP:20260424T075041
CREATED:20250726T092559Z
LAST-MODIFIED:20250726T092559Z
UID:3388-1765584000-1765670399@jnpanningen.nl
SUMMARY:OPA
DESCRIPTION:Jong Nederland Panningen komt oud papier ophalen!
URL:https://jnpanningen.nl/agenda/opa-4/
CATEGORIES:Jong Nederland Panningen,Leiding
END:VEVENT
BEGIN:VEVENT
DTSTART;VALUE=DATE:20260103
DTEND;VALUE=DATE:20260104
DTSTAMP:20260424T075041
CREATED:20250726T093701Z
LAST-MODIFIED:20250726T093701Z
UID:3392-1767398400-1767484799@jnpanningen.nl
SUMMARY:Nieuwjaarsreceptie
DESCRIPTION:Feestje met DJ Matje!
URL:https://jnpanningen.nl/agenda/nieuwjaarsreceptie/
LOCATION:Blokhut de Kei
CATEGORIES:Jong Nederland Panningen,Leiding
END:VEVENT
BEGIN:VEVENT
DTSTART;VALUE=DATE:20260105
DTEND;VALUE=DATE:20260110
DTSTAMP:20260424T075041
CREATED:20250726T093831Z
LAST-MODIFIED:20250726T093831Z
UID:3394-1767571200-1768003199@jnpanningen.nl
SUMMARY:Themaweek
DESCRIPTION:Deze week herken je de blokhut niet meer terug\, we toveren hem volledig om naar het thema!
URL:https://jnpanningen.nl/agenda/themaweek-2/
LOCATION:Blokhut de Kei
CATEGORIES:Jong Nederland Panningen,Leden
END:VEVENT
BEGIN:VEVENT
DTSTART;VALUE=DATE:20260110
DTEND;VALUE=DATE:20260111
DTSTAMP:20260424T075041
CREATED:20250726T093931Z
LAST-MODIFIED:20250726T093931Z
UID:3396-1768003200-1768089599@jnpanningen.nl
SUMMARY:OPA
DESCRIPTION:Jong Nederland Panningen komt oud papier ophalen!
URL:https://jnpanningen.nl/agenda/opa-17/
CATEGORIES:Jong Nederland Panningen,Leiding
END:VEVENT
BEGIN:VEVENT
DTSTART;VALUE=DATE:20260113
DTEND;VALUE=DATE:20260114
DTSTAMP:20260424T075041
CREATED:20250726T094301Z
LAST-MODIFIED:20250726T094301Z
UID:3402-1768262400-1768348799@jnpanningen.nl
SUMMARY:Bestuursvergadering
DESCRIPTION:
URL:https://jnpanningen.nl/agenda/bestuursvergadering-20/
CATEGORIES:Bestuur,Jong Nederland Panningen
END:VEVENT
BEGIN:VEVENT
DTSTART;VALUE=DATE:20260120
DTEND;VALUE=DATE:20260121
DTSTAMP:20260424T075041
CREATED:20250726T094354Z
LAST-MODIFIED:20250726T094354Z
UID:3404-1768867200-1768953599@jnpanningen.nl
SUMMARY:Groepsleidervergadering
DESCRIPTION:
URL:https://jnpanningen.nl/agenda/groepsleidervergadering-2/
CATEGORIES:Groepsleiders,Jong Nederland Panningen
END:VEVENT
BEGIN:VEVENT
DTSTART;VALUE=DATE:20260208
DTEND;VALUE=DATE:20260209
DTSTAMP:20260424T075041
CREATED:20250726T095006Z
LAST-MODIFIED:20250726T095006Z
UID:3410-1770508800-1770595199@jnpanningen.nl
SUMMARY:Carnavalsactiviteit
DESCRIPTION:
URL:https://jnpanningen.nl/agenda/carnavalsactiviteit-2/
LOCATION:Blokhut de Kei
CATEGORIES:Jong Nederland Panningen,Leden
END:VEVENT
BEGIN:VEVENT
DTSTART;VALUE=DATE:20260214
DTEND;VALUE=DATE:20260215
DTSTAMP:20260424T075041
CREATED:20250726T095053Z
LAST-MODIFIED:20250726T095053Z
UID:3412-1771027200-1771113599@jnpanningen.nl
SUMMARY:OPA
DESCRIPTION:Jong Nederland komt oud papier ophalen!
URL:https://jnpanningen.nl/agenda/opa-18/
CATEGORIES:Jong Nederland Panningen,Leiding
END:VEVENT
BEGIN:VEVENT
DTSTART;VALUE=DATE:20260303
DTEND;VALUE=DATE:20260304
DTSTAMP:20260424T075041
CREATED:20250726T095155Z
LAST-MODIFIED:20250726T095155Z
UID:3414-1772496000-1772582399@jnpanningen.nl
SUMMARY:Bestuursvergadering
DESCRIPTION:
URL:https://jnpanningen.nl/agenda/bestuursvergadering-22/
CATEGORIES:Bestuur,Jong Nederland Panningen
END:VEVENT
BEGIN:VEVENT
DTSTART;VALUE=DATE:20260314
DTEND;VALUE=DATE:20260315
DTSTAMP:20260424T075041
CREATED:20250726T095405Z
LAST-MODIFIED:20250726T095405Z
UID:3418-1773446400-1773532799@jnpanningen.nl
SUMMARY:OPA
DESCRIPTION:Jong Nederland Panningen komt oud papier ophalen!
URL:https://jnpanningen.nl/agenda/opa-19/
CATEGORIES:Jong Nederland Panningen,Leiding
END:VEVENT
BEGIN:VEVENT
DTSTART;TZID=UTC:20260314T080000
DTEND;TZID=UTC:20260314T170000
DTSTAMP:20260424T075041
CREATED:20250726T095314Z
LAST-MODIFIED:20250726T095314Z
UID:3416-1773475200-1773507600@jnpanningen.nl
SUMMARY:NL Doet
DESCRIPTION:Kom een dagje klussen voor Jong Nederland Panningen!
URL:https://jnpanningen.nl/agenda/nl-doet/
LOCATION:Blokhut de Kei
CATEGORIES:Jong Nederland Panningen,Leiding
END:VEVENT
BEGIN:VEVENT
DTSTART;VALUE=DATE:20260323
DTEND;VALUE=DATE:20260328
DTSTAMP:20260424T075041
CREATED:20250726T095552Z
LAST-MODIFIED:20250726T095552Z
UID:3420-1774224000-1774655999@jnpanningen.nl
SUMMARY:Cursusweek
DESCRIPTION:Deze week ontwikkelen we ons als leiding dmv het volgen van verschillende cursussen\, de groepsavonden komen hierdoor te vervallen.
URL:https://jnpanningen.nl/agenda/cursusweek/
LOCATION:Blokhut de Kei
CATEGORIES:Jong Nederland Panningen,Leiding
END:VEVENT
BEGIN:VEVENT
DTSTART;VALUE=DATE:20260401
DTEND;VALUE=DATE:20260402
DTSTAMP:20260424T075041
CREATED:20250726T095703Z
LAST-MODIFIED:20250726T095703Z
UID:3422-1775001600-1775087999@jnpanningen.nl
SUMMARY:Bestuursvergadering
DESCRIPTION:Geen grapje.
URL:https://jnpanningen.nl/agenda/bestuursvergadering-23/
CATEGORIES:Bestuur,Jong Nederland Panningen
END:VEVENT
BEGIN:VEVENT
DTSTART;TZID=UTC:20260411T080000
DTEND;TZID=UTC:20260411T170000
DTSTAMP:20260424T075041
CREATED:20250726T095833Z
LAST-MODIFIED:20250726T095833Z
UID:3426-1775894400-1775926800@jnpanningen.nl
SUMMARY:OPA
DESCRIPTION:Jong Nederland Panningen komt oud papier ophalen!
URL:https://jnpanningen.nl/agenda/opa-20/
CATEGORIES:Jong Nederland Panningen,Leiding
END:VEVENT
BEGIN:VEVENT
DTSTART;VALUE=DATE:20260413
DTEND;VALUE=DATE:20260414
DTSTAMP:20260424T075041
CREATED:20250726T095939Z
LAST-MODIFIED:20250726T095939Z
UID:3428-1776038400-1776124799@jnpanningen.nl
SUMMARY:Leidingraadvergadering
DESCRIPTION:Leidingraadvergadering + eerste kampvergadering\,
URL:https://jnpanningen.nl/agenda/leidingraadvergadering-3/
LOCATION:Blokhut de Kei
CATEGORIES:Jong Nederland Panningen,Leiding
END:VEVENT
BEGIN:VEVENT
DTSTART;VALUE=DATE:20260505
DTEND;VALUE=DATE:20260506
DTSTAMP:20260424T075041
CREATED:20250726T100041Z
LAST-MODIFIED:20250726T100041Z
UID:3430-1777939200-1778025599@jnpanningen.nl
SUMMARY:Bestuursvergadering
DESCRIPTION:
URL:https://jnpanningen.nl/agenda/bestuursvergadering-24/
CATEGORIES:Bestuur,Jong Nederland Panningen
END:VEVENT
BEGIN:VEVENT
DTSTART;VALUE=DATE:20260512
DTEND;VALUE=DATE:20260513
DTSTAMP:20260424T075041
CREATED:20250726T100119Z
LAST-MODIFIED:20250726T100119Z
UID:3432-1778544000-1778630399@jnpanningen.nl
SUMMARY:Groepsleidervergadering
DESCRIPTION:
URL:https://jnpanningen.nl/agenda/groepsleidervergadering-3/
CATEGORIES:Groepsleiders,Jong Nederland Panningen
END:VEVENT
BEGIN:VEVENT
DTSTART;VALUE=DATE:20260515
DTEND;VALUE=DATE:20260516
DTSTAMP:20260424T075041
CREATED:20250726T100334Z
LAST-MODIFIED:20250726T100334Z
UID:3439-1778803200-1778889599@jnpanningen.nl
SUMMARY:Voorjaarsactiviteit
DESCRIPTION:
URL:https://jnpanningen.nl/agenda/voorjaarsactiviteit/
CATEGORIES:Jong Nederland Panningen,Leden
END:VEVENT
BEGIN:VEVENT
DTSTART;VALUE=DATE:20260603
DTEND;VALUE=DATE:20260604
DTSTAMP:20260424T075041
CREATED:20250726T100440Z
LAST-MODIFIED:20250726T100440Z
UID:3441-1780444800-1780531199@jnpanningen.nl
SUMMARY:Bestuursvergadering
DESCRIPTION:
URL:https://jnpanningen.nl/agenda/bestuursvergadering-25/
CATEGORIES:Bestuur,Jong Nederland Panningen
END:VEVENT
BEGIN:VEVENT
DTSTART;VALUE=DATE:20260608
DTEND;VALUE=DATE:20260609
DTSTAMP:20260424T075041
CREATED:20250726T100542Z
LAST-MODIFIED:20250726T100542Z
UID:3443-1780876800-1780963199@jnpanningen.nl
SUMMARY:Leidingraadvergadering
DESCRIPTION:Leidingraadvergadering en kampvergadering.
URL:https://jnpanningen.nl/agenda/leidingraadvergadering-4/
LOCATION:Blokhut de Kei
CATEGORIES:Jong Nederland Panningen,Leiding
END:VEVENT
BEGIN:VEVENT
DTSTART;VALUE=DATE:20260613
DTEND;VALUE=DATE:20260614
DTSTAMP:20260424T075041
CREATED:20250726T100627Z
LAST-MODIFIED:20250726T100627Z
UID:3446-1781308800-1781395199@jnpanningen.nl
SUMMARY:OPA
DESCRIPTION:Jong Nederland Panningen komt oud papier ophalen!
URL:https://jnpanningen.nl/agenda/opa-22/
CATEGORIES:Jong Nederland Panningen,Leiding
END:VEVENT
BEGIN:VEVENT
DTSTART;TZID=UTC:20260622T080000
DTEND;TZID=UTC:20260626T170000
DTSTAMP:20260424T075041
CREATED:20260123T182134Z
LAST-MODIFIED:20260123T182354Z
UID:3714-1782115200-1782493200@jnpanningen.nl
SUMMARY:Laatste groepsweek
DESCRIPTION:
URL:https://jnpanningen.nl/agenda/laatste-groepsweek/
CATEGORIES:Jong Nederland Panningen,Leden
END:VEVENT
BEGIN:VEVENT
DTSTART;VALUE=DATE:20260711
DTEND;VALUE=DATE:20260712
DTSTAMP:20260424T075041
CREATED:20250726T100833Z
LAST-MODIFIED:20250726T100833Z
UID:3450-1783728000-1783814399@jnpanningen.nl
SUMMARY:OPA
DESCRIPTION:Jong Nederland Panningen komt oud papier ophalen!
URL:https://jnpanningen.nl/agenda/opa-23/
CATEGORIES:Jong Nederland Panningen,Leiding
END:VEVENT
BEGIN:VEVENT
DTSTART;VALUE=DATE:20260718
DTEND;VALUE=DATE:20260724
DTSTAMP:20260424T075041
CREATED:20250726T101023Z
LAST-MODIFIED:20250726T101400Z
UID:3454-1784332800-1784851199@jnpanningen.nl
SUMMARY:Zomerkamp
DESCRIPTION:Dit jaar gaan we 0p kamp naar Bergen en Wellerlooi!
URL:https://jnpanningen.nl/agenda/zomerkamp-2/
CATEGORIES:Jong Nederland Panningen,Leden,Leiding
END:VEVENT
END:VCALENDAR