BEGIN:VCALENDAR
VERSION:2.0
PRODID:-//Jong Nederland Panningen - ECPv6.15.20//NONSGML v1.0//EN
CALSCALE:GREGORIAN
METHOD:PUBLISH
X-WR-CALNAME:Jong Nederland Panningen
X-ORIGINAL-URL:https://jnpanningen.nl
X-WR-CALDESC:Evenementen voor Jong Nederland Panningen
REFRESH-INTERVAL;VALUE=DURATION:PT1H
X-Robots-Tag:noindex
X-PUBLISHED-TTL:PT1H
BEGIN:VTIMEZONE
TZID:UTC
BEGIN:STANDARD
TZOFFSETFROM:+0000
TZOFFSETTO:+0000
TZNAME:UTC
DTSTART:20240101T000000
END:STANDARD
END:VTIMEZONE
BEGIN:VEVENT
DTSTART;VALUE=DATE:20251005
DTEND;VALUE=DATE:20251006
DTSTAMP:20260425T114521
CREATED:20250726T083733Z
LAST-MODIFIED:20250726T083733Z
UID:3366-1759622400-1759708799@jnpanningen.nl
SUMMARY:Outdoordagen
DESCRIPTION:
URL:https://jnpanningen.nl/agenda/outdoordagen-3/
CATEGORIES:Jong Nederland Limburg,Leden
END:VEVENT
BEGIN:VEVENT
DTSTART;VALUE=DATE:20251010
DTEND;VALUE=DATE:20251011
DTSTAMP:20260425T114521
CREATED:20250726T084437Z
LAST-MODIFIED:20250726T084437Z
UID:3373-1760054400-1760140799@jnpanningen.nl
SUMMARY:Openingsactiviteit
DESCRIPTION:
URL:https://jnpanningen.nl/agenda/openingsactiviteit-2/
CATEGORIES:Jong Nederland Panningen,Leden
END:VEVENT
BEGIN:VEVENT
DTSTART;TZID=UTC:20251012T080000
DTEND;TZID=UTC:20251012T170000
DTSTAMP:20260425T114521
CREATED:20250726T083828Z
LAST-MODIFIED:20250726T083828Z
UID:3368-1760256000-1760288400@jnpanningen.nl
SUMMARY:Outdoordagen
DESCRIPTION:
URL:https://jnpanningen.nl/agenda/outdoordagen-4/
CATEGORIES:Jong Nederland Limburg,Leden
END:VEVENT
END:VCALENDAR